BEGIN:VCALENDAR
PRODID:-//github.com/rianjs/ical.net//NONSGML ical.net 4.0//EN
VERSION:2.0
BEGIN:VEVENT
DESCRIPTION:Har du lyst til å starte skolehage på din skole? Ønsker du tip
 s\, veiledning og inspirasjon til å komme i gang?
DTSTAMP:20230815T184856Z
DTSTART;VALUE=DATE:20230928
LAST-MODIFIED:20231218T134204Z
LOCATION:Digitalt - Teamslink sendes ved påmelding
SEQUENCE:0
SUMMARY:Webinar: Inspirasjonsforedrag om skolehager
UID:546ed9ce-0903-4b57-939a-4f471ea5c2ef@www.okouka.no
URL:https://www.okouka.no/program-2025/webinar-inspirasjonsforedrag-om-sko
 lehager/
END:VEVENT
END:VCALENDAR
