BEGIN:VCALENDAR
PRODID:-//github.com/rianjs/ical.net//NONSGML ical.net 4.0//EN
VERSION:2.0
BEGIN:VEVENT
DESCRIPTION:Erfaringer
DTSTAMP:20230821T211817Z
DTSTART;VALUE=DATE:20230926
LAST-MODIFIED:20230908T172612Z
LOCATION:På nett
SEQUENCE:0
SUMMARY:Webinar: Debiogodkjenning av Markedshagen  - Velkommen\, ved Randi
  Ledal Gjertsen\, Bondens marked og prosjekt Robust Småskala Grønt
UID:ec9a683f-1473-4aec-a738-935e2c1fd96f@www.okouka.no
URL:https://www.okouka.no/program-2025/webinar-debiogodkjenning-av-markeds
 hagen/
END:VEVENT
BEGIN:VEVENT
DESCRIPTION:Erfaringer
DTSTAMP:20230821T211817Z
DTSTART;VALUE=DATE:20230926
LAST-MODIFIED:20230908T172612Z
LOCATION:På nett
SEQUENCE:0
SUMMARY:Webinar: Debiogodkjenning av Markedshagen  - Erfaringer fra arbeid
 et med Debiogodkjenning av markedshagen\, ved Sigurd Vassenden\, Grønt fr
 å Grindal
UID:7062abaa-926e-4bff-b998-c59eaae4b645@www.okouka.no
URL:https://www.okouka.no/program-2025/webinar-debiogodkjenning-av-markeds
 hagen/
END:VEVENT
BEGIN:VEVENT
DESCRIPTION:Erfaringer
DTSTAMP:20230821T211817Z
DTSTART;VALUE=DATE:20230926
LAST-MODIFIED:20230908T172612Z
LOCATION:På nett
SEQUENCE:0
SUMMARY:Webinar: Debiogodkjenning av Markedshagen  - Hvorfor har jeg valgt
  å Debiogodkjenne min produksjon? ved Camilla Anvik\, Skjærgårdshagen
UID:dd1e8b23-6c0f-43fd-b141-335a9e660952@www.okouka.no
URL:https://www.okouka.no/program-2025/webinar-debiogodkjenning-av-markeds
 hagen/
END:VEVENT
BEGIN:VEVENT
DESCRIPTION:Erfaringer
DTSTAMP:20230821T211817Z
DTSTART;VALUE=DATE:20230926
LAST-MODIFIED:20230908T172612Z
LOCATION:På nett
SEQUENCE:0
SUMMARY:Webinar: Debiogodkjenning av Markedshagen  - Hva kan Norsk landbru
 ksrådgiving (NLR) tilby av rådgiving til småskala økoprodusenter\, ved Ol
 aug Bach
UID:78518ec7-39a4-495d-b681-41d347f16aff@www.okouka.no
URL:https://www.okouka.no/program-2025/webinar-debiogodkjenning-av-markeds
 hagen/
END:VEVENT
BEGIN:VEVENT
DESCRIPTION:Erfaringer
DTSTAMP:20230821T211817Z
DTSTART;VALUE=DATE:20230926
LAST-MODIFIED:20230908T172612Z
LOCATION:På nett
SEQUENCE:0
SUMMARY:Webinar: Debiogodkjenning av Markedshagen  - Kommentarer og spørsm
 ål
UID:09e8a17f-56ce-4f3d-a77e-5c1d9a861513@www.okouka.no
URL:https://www.okouka.no/program-2025/webinar-debiogodkjenning-av-markeds
 hagen/
END:VEVENT
BEGIN:VEVENT
DESCRIPTION:Erfaringer
DTSTAMP:20230821T211817Z
DTSTART;VALUE=DATE:20230926
LAST-MODIFIED:20230908T172612Z
LOCATION:På nett
SEQUENCE:0
SUMMARY:Webinar: Debiogodkjenning av Markedshagen  - Avslutning
UID:35a36dbd-7d9b-47e4-a327-fe156513dbcb@www.okouka.no
URL:https://www.okouka.no/program-2025/webinar-debiogodkjenning-av-markeds
 hagen/
END:VEVENT
END:VCALENDAR
