BEGIN:VCALENDAR
PRODID:-//github.com/rianjs/ical.net//NONSGML ical.net 4.0//EN
VERSION:2.0
BEGIN:VEVENT
DESCRIPTION:Fagdag om og med de biodynamiske preparatene
DTSTAMP:20230821T221233Z
DTSTART;VALUE=DATE:20230923
LAST-MODIFIED:20230825T122715Z
LOCATION:Bergsmyrene Gård\, Bergsmyrene 2\, 3483 Kana (Hurum)
SEQUENCE:0
SUMMARY:Preparatdagen Fagdag om og med de biodynamiske preparatene. - Oppm
 øte
UID:06735fc8-9d74-4538-ae4a-37ea147af59f@www.okouka.no
URL:https://www.okouka.no/lokale-oekouker/oekouka-oslo-og-akershus/program
 /preparatdagen/
END:VEVENT
BEGIN:VEVENT
DESCRIPTION:Fagdag om og med de biodynamiske preparatene
DTSTAMP:20230821T221233Z
DTSTART;VALUE=DATE:20230923
LAST-MODIFIED:20230825T122715Z
LOCATION:Bergsmyrene Gård\, Bergsmyrene 2\, 3483 Kana (Hurum)
SEQUENCE:0
SUMMARY:Preparatdagen Fagdag om og med de biodynamiske preparatene. - Kaff
 e og kake
UID:3d832cb5-b581-46ec-8485-1a2e61125d3a@www.okouka.no
URL:https://www.okouka.no/lokale-oekouker/oekouka-oslo-og-akershus/program
 /preparatdagen/
END:VEVENT
BEGIN:VEVENT
DESCRIPTION:Fagdag om og med de biodynamiske preparatene
DTSTAMP:20230821T221233Z
DTSTART;VALUE=DATE:20230923
LAST-MODIFIED:20230825T122715Z
LOCATION:Bergsmyrene Gård\, Bergsmyrene 2\, 3483 Kana (Hurum)
SEQUENCE:0
SUMMARY:Preparatdagen Fagdag om og med de biodynamiske preparatene. - Mini
 seminar: De biodynamiske preparatene - hvorfor og hvordan ved Eric Brinkh
 of
UID:0748c6ef-758b-42a0-807e-1debf900599f@www.okouka.no
URL:https://www.okouka.no/lokale-oekouker/oekouka-oslo-og-akershus/program
 /preparatdagen/
END:VEVENT
BEGIN:VEVENT
DESCRIPTION:Fagdag om og med de biodynamiske preparatene
DTSTAMP:20230821T221233Z
DTSTART;VALUE=DATE:20230923
LAST-MODIFIED:20230825T122715Z
LOCATION:Bergsmyrene Gård\, Bergsmyrene 2\, 3483 Kana (Hurum)
SEQUENCE:0
SUMMARY:Preparatdagen Fagdag om og med de biodynamiske preparatene. - Lunsj
UID:13f7b427-6e66-4f5f-a4ea-641e78bd82a2@www.okouka.no
URL:https://www.okouka.no/lokale-oekouker/oekouka-oslo-og-akershus/program
 /preparatdagen/
END:VEVENT
BEGIN:VEVENT
DESCRIPTION:Fagdag om og med de biodynamiske preparatene
DTSTAMP:20230821T221233Z
DTSTART;VALUE=DATE:20230923
LAST-MODIFIED:20230825T122715Z
LOCATION:Bergsmyrene Gård\, Bergsmyrene 2\, 3483 Kana (Hurum)
SEQUENCE:0
SUMMARY:Preparatdagen Fagdag om og med de biodynamiske preparatene. - Prep
 aratlaging i praksis\, pluss samtaler
UID:3ac5d195-fbb0-4f7b-953e-25e3eaed52ec@www.okouka.no
URL:https://www.okouka.no/lokale-oekouker/oekouka-oslo-og-akershus/program
 /preparatdagen/
END:VEVENT
BEGIN:VEVENT
DESCRIPTION:Fagdag om og med de biodynamiske preparatene
DTSTAMP:20230821T221233Z
DTSTART;VALUE=DATE:20230923
LAST-MODIFIED:20230825T122715Z
LOCATION:Bergsmyrene Gård\, Bergsmyrene 2\, 3483 Kana (Hurum)
SEQUENCE:0
SUMMARY:Preparatdagen Fagdag om og med de biodynamiske preparatene. - Avsl
 utning
UID:9a2535bf-0bd9-4e01-a860-31033ee47f7f@www.okouka.no
URL:https://www.okouka.no/lokale-oekouker/oekouka-oslo-og-akershus/program
 /preparatdagen/
END:VEVENT
END:VCALENDAR
