BEGIN:VCALENDAR
PRODID:-//github.com/rianjs/ical.net//NONSGML ical.net 4.0//EN
VERSION:2.0
BEGIN:VEVENT
DESCRIPTION:Fagdag om og med de biodynamiske preparatene
DTSTAMP:20230821T222534Z
DTSTART;VALUE=DATE:20230923
LAST-MODIFIED:20230919T165451Z
LOCATION:Bergsmyrene Gård\, Bergsmyrene 2\, 3483 Kana (Hurum)
SEQUENCE:0
SUMMARY:Preparatdagen 2023 Fagdag om og med de biodynamiske preparatene. -
  Oppmøte
UID:7cda8b0f-93d1-4e6f-92f5-5557f252c245@www.okouka.no
URL:https://www.okouka.no/lokale-oekouker/oekouka-vestfold-og-telemark/pro
 gram/preparatdagen-2023/
END:VEVENT
BEGIN:VEVENT
DESCRIPTION:Fagdag om og med de biodynamiske preparatene
DTSTAMP:20230821T222534Z
DTSTART;VALUE=DATE:20230923
LAST-MODIFIED:20230919T165451Z
LOCATION:Bergsmyrene Gård\, Bergsmyrene 2\, 3483 Kana (Hurum)
SEQUENCE:0
SUMMARY:Preparatdagen 2023 Fagdag om og med de biodynamiske preparatene. -
  Kaffe og kake
UID:db6d3353-52b2-424d-a388-0f2163d92e86@www.okouka.no
URL:https://www.okouka.no/lokale-oekouker/oekouka-vestfold-og-telemark/pro
 gram/preparatdagen-2023/
END:VEVENT
BEGIN:VEVENT
DESCRIPTION:Fagdag om og med de biodynamiske preparatene
DTSTAMP:20230821T222534Z
DTSTART;VALUE=DATE:20230923
LAST-MODIFIED:20230919T165451Z
LOCATION:Bergsmyrene Gård\, Bergsmyrene 2\, 3483 Kana (Hurum)
SEQUENCE:0
SUMMARY:Preparatdagen 2023 Fagdag om og med de biodynamiske preparatene. -
  Miniseminar: De biodynamiske preparatene - hvorfor og hvordan ved Eric B
 rinkhof
UID:d5e18d80-a51e-4871-af6d-2f03711c48d3@www.okouka.no
URL:https://www.okouka.no/lokale-oekouker/oekouka-vestfold-og-telemark/pro
 gram/preparatdagen-2023/
END:VEVENT
BEGIN:VEVENT
DESCRIPTION:Fagdag om og med de biodynamiske preparatene
DTSTAMP:20230821T222534Z
DTSTART;VALUE=DATE:20230923
LAST-MODIFIED:20230919T165451Z
LOCATION:Bergsmyrene Gård\, Bergsmyrene 2\, 3483 Kana (Hurum)
SEQUENCE:0
SUMMARY:Preparatdagen 2023 Fagdag om og med de biodynamiske preparatene. -
  Lunsj
UID:e6786fe2-60d6-4a1e-af5c-c626ca04f087@www.okouka.no
URL:https://www.okouka.no/lokale-oekouker/oekouka-vestfold-og-telemark/pro
 gram/preparatdagen-2023/
END:VEVENT
BEGIN:VEVENT
DESCRIPTION:Fagdag om og med de biodynamiske preparatene
DTSTAMP:20230821T222534Z
DTSTART;VALUE=DATE:20230923
LAST-MODIFIED:20230919T165451Z
LOCATION:Bergsmyrene Gård\, Bergsmyrene 2\, 3483 Kana (Hurum)
SEQUENCE:0
SUMMARY:Preparatdagen 2023 Fagdag om og med de biodynamiske preparatene. -
  Preparatlaging i praksis\, pluss samtaler
UID:f538c373-bd19-4971-bce9-45333c75664b@www.okouka.no
URL:https://www.okouka.no/lokale-oekouker/oekouka-vestfold-og-telemark/pro
 gram/preparatdagen-2023/
END:VEVENT
BEGIN:VEVENT
DESCRIPTION:Fagdag om og med de biodynamiske preparatene
DTSTAMP:20230821T222534Z
DTSTART;VALUE=DATE:20230923
LAST-MODIFIED:20230919T165451Z
LOCATION:Bergsmyrene Gård\, Bergsmyrene 2\, 3483 Kana (Hurum)
SEQUENCE:0
SUMMARY:Preparatdagen 2023 Fagdag om og med de biodynamiske preparatene. -
  Avslutning
UID:f885f9bf-0855-4b63-8229-fc05b46019dd@www.okouka.no
URL:https://www.okouka.no/lokale-oekouker/oekouka-vestfold-og-telemark/pro
 gram/preparatdagen-2023/
END:VEVENT
END:VCALENDAR
