BEGIN:VCALENDAR
PRODID:-//github.com/rianjs/ical.net//NONSGML ical.net 4.0//EN
VERSION:2.0
BEGIN:VEVENT
DESCRIPTION:VELKOMMEN TIL KURS OM ØKOLOGISK LANDBRUK I BIOFABRIKKEN PÅ NES
 ODDEN
DTEND:20230930T140000Z
DTSTAMP:20230825T125347Z
DTSTART:20230930T070000Z
LAST-MODIFIED:20230825T125543Z
LOCATION:Su Casa Coffee og Glenne Kompost
SEQUENCE:0
SUMMARY:KURS OM ØKOLOGISK LANDBRUK I BIOFABRIKKEN PÅ NESODDEN
UID:184a290f-7e17-4ef0-a606-aad5ce0bfae4@www.okouka.no
URL:https://www.okouka.no/lokale-oekouker/oekouka-oslo-og-akershus/program
 /kurs-om-oekologisk-landbruk-i-biofabrikken-paa-nesodden/
END:VEVENT
END:VCALENDAR
