BEGIN:VCALENDAR
PRODID:-//github.com/rianjs/ical.net//NONSGML ical.net 4.0//EN
VERSION:2.0
BEGIN:VEVENT
DESCRIPTION:Tradisjon tro kickstarter vi årets mest smakfulle uke med økol
 ogisk frokost på Godt Brød Grunerløkka.
DTEND:20230922T070000Z
DTSTAMP:20230825T140709Z
DTSTART:20230922T050000Z
LAST-MODIFIED:20230918T171444Z
LOCATION:Godt Brød Grunerløkka
SEQUENCE:0
SUMMARY:Åpning av ØkoUka - Bli med på frokost!
UID:3d328056-933c-451a-a71e-60145fccec5b@www.okouka.no
URL:https://www.okouka.no/lokale-oekouker/oekouka-oslo-og-akershus/program
 /aapning-av-oekouka-bli-med-paa-frokost/
END:VEVENT
END:VCALENDAR
