BEGIN:VCALENDAR
PRODID:-//github.com/rianjs/ical.net//NONSGML ical.net 4.0//EN
VERSION:2.0
BEGIN:VEVENT
DESCRIPTION:Hvordan skal vi møte framtiden på en måte som ivaretar naturre
 ssursene\, menneska og dyra\, samtidig som vi produserer sunn og næringsr
 ik mat?
DTEND:20230922T133000Z
DTSTAMP:20230825T145554Z
DTSTART:20230922T073000Z
LAST-MODIFIED:20230825T150028Z
LOCATION:Bygdøy kongsgård
SEQUENCE:0
SUMMARY:KONGSGÅRDSEMINARET  REGENERATIVT LANDBRUK- GROBUNN FOR FRAMTIDA
UID:93615b54-2c3c-49bd-a399-5e430d5ab2f7@www.okouka.no
URL:https://www.okouka.no/lokale-oekouker/oekouka-oslo-og-akershus/program
 /kongsgaardseminaret-regenerativt-landbruk-grobunn-for-framtida/
END:VEVENT
END:VCALENDAR
