BEGIN:VCALENDAR
PRODID:-//github.com/rianjs/ical.net//NONSGML ical.net 4.0//EN
VERSION:2.0
BEGIN:VEVENT
DESCRIPTION:Velkommen til høstmarked!
DTEND:20230930T120000Z
DTSTAMP:20230827T080623Z
DTSTART:20230930T090000Z
LAST-MODIFIED:20230827T080647Z
LOCATION:Tordenskjoldsgate 6\, Porsgrunn
SEQUENCE:0
SUMMARY:Høstmarked på Keims
UID:d22d7bc6-b5bc-4f1a-8eae-8406647346b9@www.okouka.no
URL:https://www.okouka.no/lokale-oekouker/oekouka-vestfold-og-telemark/pro
 gram/hoestmarked-paa-keims/
END:VEVENT
END:VCALENDAR
