BEGIN:VCALENDAR
PRODID:-//github.com/rianjs/ical.net//NONSGML ical.net 4.0//EN
VERSION:2.0
BEGIN:VEVENT
DESCRIPTION:Vi ønsker å invitere ungdom med på en matopplevelse utenom det
  vanlige!
DTEND:20230927T180000Z
DTSTAMP:20230830T095054Z
DTSTART:20230927T140000Z
LAST-MODIFIED:20230830T120545Z
LOCATION:Factory Tøyen
SEQUENCE:0
SUMMARY:Kokkeskole for ungdom med Liz & Cecilie
UID:fa477a66-39c4-4197-81fe-933e0a7fa0a0@www.okouka.no
URL:https://www.okouka.no/lokale-oekouker/oekouka-oslo-og-akershus/program
 /kokkeskole-for-ungdom-med-liz-cecilie/
END:VEVENT
END:VCALENDAR
