BEGIN:VCALENDAR
PRODID:-//github.com/rianjs/ical.net//NONSGML ical.net 4.0//EN
VERSION:2.0
BEGIN:VEVENT
DESCRIPTION:ByBi ønsker å invitere publikum til en omvisning i vår bigård 
 og introdusere dem til ulike bikuber der biene bor.
DTEND:20230927T170000Z
DTSTAMP:20230830T121145Z
DTSTART:20230927T150000Z
LAST-MODIFIED:20230927T153440Z
LOCATION:Gartneriet på Bygdøy
SEQUENCE:0
SUMMARY:FULLT! Honninghøsting og honningsmaking med ByBi
UID:5bab3b6a-1180-4903-8f37-c9733b8090a4@www.okouka.no
URL:https://www.okouka.no/lokale-oekouker/oekouka-oslo-og-akershus/program
 /fullt-honninghoesting-og-honningsmaking-med-bybi/
END:VEVENT
END:VCALENDAR
