BEGIN:VCALENDAR
PRODID:-//github.com/rianjs/ical.net//NONSGML ical.net 4.0//EN
VERSION:2.0
BEGIN:VEVENT
DESCRIPTION:Hva er historien til det vi spiser og drikker?\nPå Stammen Caf
 é og Bar velger vi våre ingredienser med omhu.
DTSTAMP:20230830T125121Z
DTSTART;VALUE=DATE:20230923
LAST-MODIFIED:20230830T125410Z
LOCATION:Kongens gate 55\, 7012 Trondheim
SEQUENCE:0
SUMMARY:Stammen Cafe & Bar - Foredrag med Konfiansa og Dype Røtter
UID:c9570f5a-435f-4ea8-9028-5ef8c2abecbf@www.okouka.no
URL:https://www.okouka.no/lokale-oekouker/oekouka-troendelag/program/stamm
 en-cafe-bar-foredrag-med-konfiansa-og-dype-roetter/
END:VEVENT
END:VCALENDAR
