BEGIN:VCALENDAR
PRODID:-//github.com/rianjs/ical.net//NONSGML ical.net 4.0//EN
VERSION:2.0
BEGIN:VEVENT
DESCRIPTION:Når var siste gang du sto under kronen på et mektig tre?
DTEND:20230928T170000Z
DTSTAMP:20230830T200940Z
DTSTART:20230928T150000Z
LAST-MODIFIED:20230927T154629Z
LOCATION:Linderud gård
SEQUENCE:0
SUMMARY:Et mektig tre
UID:0e94a197-78a3-450f-89d7-57607c396419@www.okouka.no
URL:https://www.okouka.no/lokale-oekouker/oekouka-oslo-og-akershus/program
 /et-mektig-tre/
END:VEVENT
END:VCALENDAR
