BEGIN:VCALENDAR
PRODID:-//github.com/rianjs/ical.net//NONSGML ical.net 4.0//EN
VERSION:2.0
BEGIN:VEVENT
DESCRIPTION:På Medalhus Andelslandbruk dyrker vi minst 60 sorter grønnsake
 r på Melhus Øvre økologisk gård. Denne lørdagen er andelslandbruket åpent
  for alle interesserte og nysgjerrige
DTEND:20230923T133000Z
DTSTAMP:20230831T155408Z
DTSTART:20230923T103000Z
LAST-MODIFIED:20230906T135102Z
LOCATION:Melhusgården Øvre\, Asbjørn av Medalhus vei 1\, 7224 Melhus
SEQUENCE:0
SUMMARY:ÅPEN DAG ved MEDALHUS ANDELSLANDBRUK
UID:6d2df5af-fcc3-4505-8914-03ff779570c5@www.okouka.no
URL:https://www.okouka.no/lokale-oekouker/oekouka-troendelag/program/aapen
 -dag-ved-medalhus-andelslandbruk/
END:VEVENT
END:VCALENDAR
