BEGIN:VCALENDAR
PRODID:-//github.com/rianjs/ical.net//NONSGML ical.net 4.0//EN
VERSION:2.0
BEGIN:VEVENT
DESCRIPTION:Velkommen til oss!
DTEND:20230924T140000Z
DTSTAMP:20230902T231615Z
DTSTART:20230924T100000Z
LAST-MODIFIED:20230902T231615Z
LOCATION:Ytre Årsnes\, 25 4770 Høvåg
SEQUENCE:0
SUMMARY:Åpen økologisk gård med steinovnspizza - Levende gård
UID:1b8d9ece-b6a5-4dc2-bbe1-9a2e6a544ffb@www.okouka.no
URL:https://www.okouka.no/lokale-oekouker/oekouka-agder/program/aapen-oeko
 logisk-gaard-med-steinovnspizza-levende-gaard/
END:VEVENT
END:VCALENDAR
