BEGIN:VCALENDAR
PRODID:-//github.com/rianjs/ical.net//NONSGML ical.net 4.0//EN
VERSION:2.0
BEGIN:VEVENT
DESCRIPTION:Småskala drift med flere muligheter til inntekt kan bidra til 
 robuste bedrifter
DTEND:20230927T120000Z
DTSTAMP:20230904T110330Z
DTSTART:20230927T080000Z
LAST-MODIFIED:20230904T110330Z
LOCATION:Prestegården i Froland\, Eivindstadveien 14\, Froland
SEQUENCE:0
SUMMARY:FULLT! Gården som økosystem med Delås gård og Prestegården i Frola
 nd
UID:03373fa6-59e1-4367-bf39-5a6e10f18c0e@www.okouka.no
URL:https://www.okouka.no/lokale-oekouker/oekouka-agder/program/fullt-gaar
 den-som-oekosystem-med-delaas-gaard-og-prestegaarden-i-froland/
END:VEVENT
END:VCALENDAR
