BEGIN:VCALENDAR
PRODID:-//github.com/rianjs/ical.net//NONSGML ical.net 4.0//EN
VERSION:2.0
BEGIN:VEVENT
DESCRIPTION:Bærekraft i vekst - er dette mulig?
DTEND:20230928T183000Z
DTSTAMP:20230904T112617Z
DTSTART:20230928T173000Z
LAST-MODIFIED:20230904T112617Z
LOCATION:Grimstad bibliotek\, Jernbanebrygga 1\, Grimstad
SEQUENCE:0
SUMMARY:Klimapsykologi med Ragnhild Nilsen - Økouka Agder og Direkte fra A
 gderbibliotekene
UID:b1a35939-affe-4d2e-bd69-c1684677a7d5@www.okouka.no
URL:https://www.okouka.no/lokale-oekouker/oekouka-agder/program/klimapsyko
 logi-med-ragnhild-nilsen-oekouka-agder-og-direkte-fra-agderbibliotekene/
END:VEVENT
END:VCALENDAR
