BEGIN:VCALENDAR
PRODID:-//github.com/rianjs/ical.net//NONSGML ical.net 4.0//EN
VERSION:2.0
BEGIN:VEVENT
DESCRIPTION:Bli med oss på vår reise gjennom utviklingen av vår eventyrlig
 e markedshage
DTEND:20230930T130000Z
DTSTAMP:20230904T114502Z
DTSTART:20230930T100000Z
LAST-MODIFIED:20230904T114502Z
LOCATION:Vår lille eventyrhage\, Moltekjerrveien 15\, Iveland
SEQUENCE:0
SUMMARY:Åpen økologisk skogshage med hügelbed - Vår lille eventyrhage
UID:d4dc4348-e169-4ecc-8f1f-7579dba94543@www.okouka.no
URL:https://www.okouka.no/lokale-oekouker/oekouka-agder/program/aapen-oeko
 logisk-skogshage-med-huegelbed-vaar-lille-eventyrhage/
END:VEVENT
END:VCALENDAR
