BEGIN:VCALENDAR
PRODID:-//github.com/rianjs/ical.net//NONSGML ical.net 4.0//EN
VERSION:2.0
BEGIN:VEVENT
DESCRIPTION:Surdeigsbrød\, Kimchi og andre fermenterte godsaker - lær fra 
 ekspertene
DTEND:20230930T133000Z
DTSTAMP:20230904T120410Z
DTSTART:20230930T100000Z
LAST-MODIFIED:20230904T120410Z
LOCATION:Slettene hage\, Herefossveien 2117\, Herefoss\, Birkeland
SEQUENCE:0
SUMMARY:Fermentfest! med Gry Hammer\, Enklere bondeliv\, Kerstins og Slett
 ene hage
UID:b5ff5600-03e3-4aac-9607-5b9144aa1d41@www.okouka.no
URL:https://www.okouka.no/lokale-oekouker/oekouka-agder/program/fermentfes
 t-med-gry-hammer-enklere-bondeliv-kerstins-og-slettene-hage/
END:VEVENT
END:VCALENDAR
