BEGIN:VCALENDAR
PRODID:-//github.com/rianjs/ical.net//NONSGML ical.net 4.0//EN
VERSION:2.0
BEGIN:VEVENT
DESCRIPTION:Mikroklima er nøkkelordet for å dyrke på Lista.
DTEND:20231001T140000Z
DTSTAMP:20230904T133606Z
DTSTART:20231001T123000Z
LAST-MODIFIED:20230904T133606Z
LOCATION:Penne økologiske hage\, Penne 41\, Vanse
SEQUENCE:0
SUMMARY:Hagevandring hos Penne økologiske hage på Lista
UID:28b46fd4-9419-41dc-aa3e-a3b70b2914d9@www.okouka.no
URL:https://www.okouka.no/lokale-oekouker/oekouka-agder/program/hagevandri
 ng-hos-penne-oekologiske-hage-paa-lista/
END:VEVENT
END:VCALENDAR
