BEGIN:VCALENDAR
PRODID:-//github.com/rianjs/ical.net//NONSGML ical.net 4.0//EN
VERSION:2.0
BEGIN:VEVENT
DESCRIPTION:Lørdag 30. september er vi med på den årlige feiringen av økol
 ogisk mat og landbruk. Vi gjentar derfor suksessen fra i sommer med et ny
 tt nybegynnerkurs i pilfletting på Meinstad.
DTEND:20230930T160000Z
DTSTAMP:20230904T144631Z
DTSTART:20230930T080000Z
LAST-MODIFIED:20230904T144739Z
LOCATION:Nissedalsvegen 680\, Kyrkjebygdi\, Norway
SEQUENCE:0
SUMMARY:Pileflettekurs på Meinstad Landhandel
UID:381f7ce3-397a-4ad5-87c0-d8943d171d3a@www.okouka.no
URL:https://www.okouka.no/lokale-oekouker/oekouka-vestfold-og-telemark/pro
 gram/pileflettekurs-paa-meinstad-landhandel/
END:VEVENT
END:VCALENDAR
