BEGIN:VCALENDAR
PRODID:-//github.com/rianjs/ical.net//NONSGML ical.net 4.0//EN
VERSION:2.0
BEGIN:VEVENT
DESCRIPTION:ØKOVEKA Bergen opning på GODT BRØD Fløttmannsplassen
DTEND:20240913T060000Z
DTSTAMP:20230904T185116Z
DTSTART:20240913T050000Z
LAST-MODIFIED:20240907T192316Z
LOCATION:Godt Brød Fløttmannsplassen\, Damsgårdsveien 59\,5058 Bergen
SEQUENCE:0
SUMMARY:ØKOVEKA Bergen opning på GODT BRØD Fløttmannsplassen
UID:cee65868-67d0-40ab-b523-04fe018a7b74@www.okouka.no
URL:https://www.okouka.no/lokale-oekouker/oekoveka-bergen/program/oekoveka
 -bergen-opning-paa-godt-broed-floettmannsplassen/
END:VEVENT
END:VCALENDAR
