BEGIN:VCALENDAR
PRODID:-//github.com/rianjs/ical.net//NONSGML ical.net 4.0//EN
VERSION:2.0
BEGIN:VEVENT
DESCRIPTION:Denne dagen kan du besøke Salome sine produksjonslokaler i Arn
 a og få vite meir om produksjonen\, bruk av produkta og tanken bak gründe
 rbedrifta til Sissel Minde.
DTEND:20230923T130000Z
DTSTAMP:20230904T192128Z
DTSTART:20230923T090000Z
LAST-MODIFIED:20230904T192153Z
LOCATION:Salome AS
SEQUENCE:0
SUMMARY:Open dag hos Salome økologisk hudpleie
UID:c4a97872-2978-44a2-b2bd-210a39ffe16b@www.okouka.no
URL:https://www.okouka.no/lokale-oekouker/oekoveka-bergen/program/open-dag
 -hos-salome-oekologisk-hudpleie/
END:VEVENT
END:VCALENDAR
