BEGIN:VCALENDAR
PRODID:-//github.com/rianjs/ical.net//NONSGML ical.net 4.0//EN
VERSION:2.0
BEGIN:VEVENT
DESCRIPTION:Ekstra mykje økologisk på menyen i ØKOVEKA hos nobel bopel
DTEND:20240913T180000Z
DTSTAMP:20230904T194349Z
DTSTART:20240913T080000Z
LAST-MODIFIED:20250903T082834Z
LOCATION:nobel bopel
SEQUENCE:0
SUMMARY:Økologisk på menyen hos nobel bopel i ØKOVEKA
UID:2db48f26-a5a2-483c-ac09-a48ecbd86093@www.okouka.no
URL:https://www.okouka.no/lokale-oekouker/oekoveka-bergen/program/oekologi
 sk-paa-menyen-hos-nobel-bopel-i-oekoveka/
END:VEVENT
END:VCALENDAR
