BEGIN:VCALENDAR
PRODID:-//github.com/rianjs/ical.net//NONSGML ical.net 4.0//EN
VERSION:2.0
BEGIN:VEVENT
DESCRIPTION:Velkommen til Seljebakken småbruk!
DTEND:20231001T140000Z
DTSTAMP:20230904T195159Z
DTSTART:20231001T090000Z
LAST-MODIFIED:20230904T195220Z
LOCATION:Grønvoldvegen 455 3830 Ulefoss
SEQUENCE:0
SUMMARY:Åpen økologisk gård på Seljebakken småbruk - søndag 1. oktober
UID:2bd06fa8-a2c1-4c47-9479-65a29e705e33@www.okouka.no
URL:https://www.okouka.no/lokale-oekouker/oekouka-vestfold-og-telemark/pro
 gram/aapen-oekologisk-gaard-paa-seljebakken-smaabruk-soendag-1-oktober/
END:VEVENT
END:VCALENDAR
