BEGIN:VCALENDAR
PRODID:-//github.com/rianjs/ical.net//NONSGML ical.net 4.0//EN
VERSION:2.0
BEGIN:VEVENT
DESCRIPTION:Vel møtt til Åpen økologisk gård på Undeland gard!
DTEND:20230923T140000Z
DTSTAMP:20230904T195931Z
DTSTART:20230923T100000Z
LAST-MODIFIED:20230904T200715Z
LOCATION:Undeland gard
SEQUENCE:0
SUMMARY:Open dag hos Undeland gard
UID:bbdad3e5-6e67-4d92-9adf-b320ebf6f24c@www.okouka.no
URL:https://www.okouka.no/lokale-oekouker/oekoveka-bergen/program/open-dag
 -hos-undeland-gard/
END:VEVENT
END:VCALENDAR
