BEGIN:VCALENDAR
PRODID:-//github.com/rianjs/ical.net//NONSGML ical.net 4.0//EN
VERSION:2.0
BEGIN:VEVENT
DESCRIPTION:Velkomen til familesundag på Lyngheisenteret
DTEND:20230924T150000Z
DTSTAMP:20230904T201310Z
DTSTART:20230924T100000Z
LAST-MODIFIED:20230904T201431Z
LOCATION:Lyngheisenteret
SEQUENCE:0
SUMMARY:Familiedag på Lyngheisenteret
UID:ee3b7f97-878f-4069-9110-dd9c67438e50@www.okouka.no
URL:https://www.okouka.no/lokale-oekouker/oekoveka-bergen/program/familied
 ag-paa-lyngheisenteret/
END:VEVENT
END:VCALENDAR
