BEGIN:VCALENDAR
PRODID:-//github.com/rianjs/ical.net//NONSGML ical.net 4.0//EN
VERSION:2.0
BEGIN:VEVENT
DESCRIPTION:Eplefest på Reindyrka
DTEND:20230926T160000Z
DTSTAMP:20230904T203056Z
DTSTART:20230926T080000Z
LAST-MODIFIED:20230920T151759Z
LOCATION:Reindyrka
SEQUENCE:0
SUMMARY:Takk til den økologiske eplebonden
UID:0ff25121-5382-4390-b2bc-9722e73ff0a9@www.okouka.no
URL:https://www.okouka.no/lokale-oekouker/oekoveka-bergen/program/takk-til
 -den-oekologiske-eplebonden/
END:VEVENT
END:VCALENDAR
