BEGIN:VCALENDAR
PRODID:-//github.com/rianjs/ical.net//NONSGML ical.net 4.0//EN
VERSION:2.0
BEGIN:VEVENT
DESCRIPTION:Denne dagen vil me feire den økologiske sauebonden\, potet og 
 kål bonden på Vestlandet.
DTEND:20230928T160000Z
DTSTAMP:20230905T211017Z
DTSTART:20230928T080000Z
LAST-MODIFIED:20230922T165129Z
LOCATION:Reindyrka
SEQUENCE:0
SUMMARY:Kortreist fårikålfest hos Reindyrka!
UID:9bb41a39-8a11-4540-a192-7f4b8467bb0d@www.okouka.no
URL:https://www.okouka.no/lokale-oekouker/oekoveka-bergen/program/kortreis
 t-faarikaalfest-hos-reindyrka/
END:VEVENT
END:VCALENDAR
