BEGIN:VCALENDAR
PRODID:-//github.com/rianjs/ical.net//NONSGML ical.net 4.0//EN
VERSION:2.0
BEGIN:VEVENT
DESCRIPTION:Besøk Bergen Øko Markedshage
DTEND:20230930T120000Z
DTSTAMP:20230905T214407Z
DTSTART:20230930T100000Z
LAST-MODIFIED:20230905T214407Z
LOCATION:Bergen Øko
SEQUENCE:0
SUMMARY:Open dag på Bergen Øko Markedshage
UID:a5fee3c4-1e57-44d4-9998-74991f1c4cf3@www.okouka.no
URL:https://www.okouka.no/lokale-oekouker/oekoveka-bergen/program/open-dag
 -paa-bergen-oeko-markedshage/
END:VEVENT
END:VCALENDAR
