BEGIN:VCALENDAR
PRODID:-//github.com/rianjs/ical.net//NONSGML ical.net 4.0//EN
VERSION:2.0
BEGIN:VEVENT
DESCRIPTION:Unn deg en god start på dagen: Kom på gratis økologisk frokost!
DTEND:20230922T080000Z
DTSTAMP:20230906T112239Z
DTSTART:20230922T060000Z
LAST-MODIFIED:20230906T112325Z
LOCATION:Godt Brød i Amfi Vågen i Sandnes
SEQUENCE:0
SUMMARY:Åpning av ØKOUKA - kom på frokost i Sandnes!
UID:5f42a9f1-792b-4fd8-bfb2-1cfc62826a1e@www.okouka.no
URL:https://www.okouka.no/lokale-oekouker/oekouka-rogaland/program/aapning
 -av-oekouka-kom-paa-frokost-i-sandnes/
END:VEVENT
END:VCALENDAR
