BEGIN:VCALENDAR
PRODID:-//github.com/rianjs/ical.net//NONSGML ical.net 4.0//EN
VERSION:2.0
BEGIN:VEVENT
DESCRIPTION:Har du lyst til å lære å lage vakre og solide boksar eller fat
  i never?
DTEND:20230929T150000Z
DTSTAMP:20230906T155738Z
DTSTART:20230929T080000Z
LAST-MODIFIED:20230906T162510Z
LOCATION:Oterholtvegen 148\, 3803 Bø
SEQUENCE:0
SUMMARY:Neversveiping - kurs
UID:0d6b8878-5ecf-4db7-8603-4738cb356838@www.okouka.no
URL:https://www.okouka.no/lokale-oekouker/oekouka-vestfold-og-telemark/pro
 gram/neversveiping-kurs/
END:VEVENT
END:VCALENDAR
