BEGIN:VCALENDAR
PRODID:-//github.com/rianjs/ical.net//NONSGML ical.net 4.0//EN
VERSION:2.0
BEGIN:VEVENT
DESCRIPTION:Geitmyras økologiske pop up-verksteder for barn
DTSTAMP:20230907T194749Z
DTSTART;VALUE=DATE:20231003
LAST-MODIFIED:20230907T195013Z
LOCATION:Barneskoler i Tønsberg
SEQUENCE:0
SUMMARY:Geitmyras økologiske pop up-verksteder for barn  - Tema: Jord og d
 yrkning
UID:7b282cb1-f9f0-4b89-afcd-abfa21e808a3@www.okouka.no
URL:https://www.okouka.no/lokale-oekouker/oekouka-vestfold-og-telemark/pro
 gram/geitmyras-oekologiske-pop-up-verksteder-for-barn/
END:VEVENT
BEGIN:VEVENT
DESCRIPTION:Geitmyras økologiske pop up-verksteder for barn
DTSTAMP:20230907T194749Z
DTSTART;VALUE=DATE:20231005
LAST-MODIFIED:20230907T195013Z
LOCATION:Barneskoler i Tønsberg
SEQUENCE:0
SUMMARY:Geitmyras økologiske pop up-verksteder for barn Tema: Jord og dyrk
 ning  -
UID:77e24ba7-c7b0-4ba8-85a1-797393ebeec5@www.okouka.no
URL:https://www.okouka.no/lokale-oekouker/oekouka-vestfold-og-telemark/pro
 gram/geitmyras-oekologiske-pop-up-verksteder-for-barn/
END:VEVENT
END:VCALENDAR
