BEGIN:VCALENDAR
PRODID:-//github.com/rianjs/ical.net//NONSGML ical.net 4.0//EN
VERSION:2.0
BEGIN:VEVENT
DESCRIPTION:Velkommen til webinar om spiselige ville vekster!
DTSTAMP:20230907T201033Z
DTSTART;VALUE=DATE:20230927
LAST-MODIFIED:20230908T172557Z
LOCATION:På nett
SEQUENCE:0
SUMMARY:Webinar: Vill vekst i fjellet Velkommen til webinar om spiselige v
 ille vekster - Velkommen ved Hilde Helgesen\, NIBIO
UID:92be605e-9787-4e55-abb7-a026649de0f1@www.okouka.no
URL:https://www.okouka.no/program-2025/webinar-vill-vekst-i-fjellet/
END:VEVENT
BEGIN:VEVENT
DESCRIPTION:Velkommen til webinar om spiselige ville vekster!
DTSTAMP:20230907T201033Z
DTSTART;VALUE=DATE:20230927
LAST-MODIFIED:20230908T172557Z
LOCATION:På nett
SEQUENCE:0
SUMMARY:Webinar: Vill vekst i fjellet Velkommen til webinar om spiselige v
 ille vekster - Åpning ved Jorunn Stubsjøen fra Statsforvalteren i Innland
 et
UID:545b7253-2cf7-405a-8f29-1460d38d6890@www.okouka.no
URL:https://www.okouka.no/program-2025/webinar-vill-vekst-i-fjellet/
END:VEVENT
BEGIN:VEVENT
DESCRIPTION:Velkommen til webinar om spiselige ville vekster!
DTSTAMP:20230907T201033Z
DTSTART;VALUE=DATE:20230927
LAST-MODIFIED:20230908T172557Z
LOCATION:På nett
SEQUENCE:0
SUMMARY:Webinar: Vill vekst i fjellet Velkommen til webinar om spiselige v
 ille vekster - En sanker forteller ved Inger Hanne Myran\, JoSætra\, Oppd
 al
UID:f3c941b6-e6f3-406b-927f-044515e959e0@www.okouka.no
URL:https://www.okouka.no/program-2025/webinar-vill-vekst-i-fjellet/
END:VEVENT
BEGIN:VEVENT
DESCRIPTION:Velkommen til webinar om spiselige ville vekster!
DTSTAMP:20230907T201033Z
DTSTART;VALUE=DATE:20230927
LAST-MODIFIED:20230908T172557Z
LOCATION:På nett
SEQUENCE:0
SUMMARY:Webinar: Vill vekst i fjellet Velkommen til webinar om spiselige v
 ille vekster - Bærekraftig sanking ved Cathrine Johnsen\, Fru Johnsens So
 pp og nyttevekster
UID:f5c9eb84-808f-4572-8a36-80e431ff3c8c@www.okouka.no
URL:https://www.okouka.no/program-2025/webinar-vill-vekst-i-fjellet/
END:VEVENT
BEGIN:VEVENT
DESCRIPTION:Velkommen til webinar om spiselige ville vekster!
DTSTAMP:20230907T201033Z
DTSTART;VALUE=DATE:20230927
LAST-MODIFIED:20230908T172557Z
LOCATION:På nett
SEQUENCE:0
SUMMARY:Webinar: Vill vekst i fjellet Velkommen til webinar om spiselige v
 ille vekster - Pause
UID:1a7b09c4-af4a-4c5a-96fd-a9714af6f88f@www.okouka.no
URL:https://www.okouka.no/program-2025/webinar-vill-vekst-i-fjellet/
END:VEVENT
BEGIN:VEVENT
DESCRIPTION:Velkommen til webinar om spiselige ville vekster!
DTSTAMP:20230907T201033Z
DTSTART;VALUE=DATE:20230927
LAST-MODIFIED:20230908T172557Z
LOCATION:På nett
SEQUENCE:0
SUMMARY:Webinar: Vill vekst i fjellet Velkommen til webinar om spiselige v
 ille vekster - Lovverk og tilsyn ved sanking\, foredling og salg av ville
  spiselige vekster ved Cindy Remen fra Mattilsynet\, Steinkjer
UID:efc96215-87ea-44d8-87e6-2368e1d327ac@www.okouka.no
URL:https://www.okouka.no/program-2025/webinar-vill-vekst-i-fjellet/
END:VEVENT
BEGIN:VEVENT
DESCRIPTION:Velkommen til webinar om spiselige ville vekster!
DTSTAMP:20230907T201033Z
DTSTART;VALUE=DATE:20230927
LAST-MODIFIED:20230908T172557Z
LOCATION:På nett
SEQUENCE:0
SUMMARY:Webinar: Vill vekst i fjellet Velkommen til webinar om spiselige v
 ille vekster - En kommersiell sanker forteller om salg og kunder ved Jim 
 Andre Stene\, gründer Trøndelag sankeri
UID:2dee4231-dd6f-4f7e-9f56-5707d8cc3cac@www.okouka.no
URL:https://www.okouka.no/program-2025/webinar-vill-vekst-i-fjellet/
END:VEVENT
BEGIN:VEVENT
DESCRIPTION:Velkommen til webinar om spiselige ville vekster!
DTSTAMP:20230907T201033Z
DTSTART;VALUE=DATE:20230927
LAST-MODIFIED:20230908T172557Z
LOCATION:På nett
SEQUENCE:0
SUMMARY:Webinar: Vill vekst i fjellet Velkommen til webinar om spiselige v
 ille vekster - Pause
UID:32e05770-d0dc-4231-9ba1-341417c416e4@www.okouka.no
URL:https://www.okouka.no/program-2025/webinar-vill-vekst-i-fjellet/
END:VEVENT
BEGIN:VEVENT
DESCRIPTION:Velkommen til webinar om spiselige ville vekster!
DTSTAMP:20230907T201033Z
DTSTART;VALUE=DATE:20230927
LAST-MODIFIED:20230908T172557Z
LOCATION:På nett
SEQUENCE:0
SUMMARY:Webinar: Vill vekst i fjellet Velkommen til webinar om spiselige v
 ille vekster - Ville vekster på menyen ved kjøkkensjef og kokk Jørgen Rav
 neberg på Kolonihagen restaurant i Oslo
UID:a19519ff-7cb4-409a-ac83-01ca1ed37148@www.okouka.no
URL:https://www.okouka.no/program-2025/webinar-vill-vekst-i-fjellet/
END:VEVENT
BEGIN:VEVENT
DESCRIPTION:Velkommen til webinar om spiselige ville vekster!
DTSTAMP:20230907T201033Z
DTSTART;VALUE=DATE:20230927
LAST-MODIFIED:20230908T172557Z
LOCATION:På nett
SEQUENCE:0
SUMMARY:Webinar: Vill vekst i fjellet Velkommen til webinar om spiselige v
 ille vekster - Smakebiter fra viktige funn i prosjektet ved Hilde Helgese
 n\, NIBIO
UID:4a7cdd01-cb66-4d01-9c31-717e81a44482@www.okouka.no
URL:https://www.okouka.no/program-2025/webinar-vill-vekst-i-fjellet/
END:VEVENT
BEGIN:VEVENT
DESCRIPTION:Velkommen til webinar om spiselige ville vekster!
DTEND:20230927T130000Z
DTSTAMP:20230907T201033Z
DTSTART:20230927T125000Z
LAST-MODIFIED:20230908T172557Z
LOCATION:På nett
SEQUENCE:0
SUMMARY:Webinar: Vill vekst i fjellet Velkommen til webinar om spiselige v
 ille vekster - Muligheter for næringsutvikling - hva kan myndighetene gjø
 re? Og takk for deltakelsen fra Statsforvalteren i Trøndelag
UID:42e4f9b1-a071-4a07-9fa5-c0f2719e9e31@www.okouka.no
URL:https://www.okouka.no/program-2025/webinar-vill-vekst-i-fjellet/
END:VEVENT
END:VCALENDAR
