BEGIN:VCALENDAR
PRODID:-//github.com/rianjs/ical.net//NONSGML ical.net 4.0//EN
VERSION:2.0
BEGIN:VEVENT
DESCRIPTION:Det er livlig i enga\, både over og under bakken!
DTEND:20230927T183000Z
DTSTAMP:20230907T202356Z
DTSTART:20230927T170000Z
LAST-MODIFIED:20230908T172623Z
LOCATION:På nett
SEQUENCE:0
SUMMARY:Webinar: Kule småkryp i eng og beiter
UID:8ad0300a-06ab-4bf9-8e2a-42e10eb84e03@www.okouka.no
URL:https://www.okouka.no/program-2025/webinar-kule-smaakryp-i-eng-og-beit
 er/
END:VEVENT
END:VCALENDAR
