BEGIN:VCALENDAR
PRODID:-//github.com/rianjs/ical.net//NONSGML ical.net 4.0//EN
VERSION:2.0
BEGIN:VEVENT
DESCRIPTION:Landbrukets Økoløft inviterer til møte om økologisk kornproduk
 sjon i Trøndelag under Økouka!
DTSTAMP:20230907T210657Z
DTSTART;VALUE=DATE:20230925
LAST-MODIFIED:20230918T094223Z
LOCATION:Ersgård\, Sørsidevegen 460\, 7514 Stjørdal
SEQUENCE:0
SUMMARY:Fagmøte om økologisk kornproduksjon i Trøndelag
UID:f0bd1521-f87b-49db-90b4-9c8df5189ac9@www.okouka.no
URL:https://www.okouka.no/lokale-oekouker/oekouka-troendelag/program/fagmo
 ete-om-oekologisk-kornproduksjon-i-troendelag/
END:VEVENT
END:VCALENDAR
