BEGIN:VCALENDAR
PRODID:-//github.com/rianjs/ical.net//NONSGML ical.net 4.0//EN
VERSION:2.0
BEGIN:VEVENT
DESCRIPTION:Lønner det seg å legge om gårdsdrifta til økologisk\, fra et ø
 konomisk perspektiv?
DTEND:20230925T190000Z
DTSTAMP:20230908T164125Z
DTSTART:20230925T170000Z
LAST-MODIFIED:20230908T172628Z
LOCATION:På nett
SEQUENCE:0
SUMMARY:Webinar: Økonomi i økologisk drift
UID:41c433f6-fe3a-42ba-889a-07511873c120@www.okouka.no
URL:https://www.okouka.no/program-2025/webinar-oekonomi-i-oekologisk-drift/
END:VEVENT
END:VCALENDAR
