BEGIN:VCALENDAR
PRODID:-//github.com/rianjs/ical.net//NONSGML ical.net 4.0//EN
VERSION:2.0
BEGIN:VEVENT
DESCRIPTION:Vi arrangerer vår tradisjonelle høstgård med en rekke ulike ak
 tiviteter for familier.
DTEND:20230930T120000Z
DTSTAMP:20230908T221108Z
DTSTART:20230930T090000Z
LAST-MODIFIED:20230908T222557Z
LOCATION:Skjetlein videregående skole
SEQUENCE:0
SUMMARY:Åpen høstgård på Skjetlein videregående skole
UID:90bccde5-6d16-42d4-8a70-f180f31a282b@www.okouka.no
URL:https://www.okouka.no/lokale-oekouker/oekouka-troendelag/program/aapen
 -hoestgaard-paa-skjetlein-videregaaende-skole/
END:VEVENT
END:VCALENDAR
