BEGIN:VCALENDAR
PRODID:-//github.com/rianjs/ical.net//NONSGML ical.net 4.0//EN
VERSION:2.0
BEGIN:VEVENT
DESCRIPTION:Velkommen til åpen hagen i Ingunns fantastiske hage i Brunlane
 s.
DTEND:20230923T130000Z
DTSTAMP:20230911T144005Z
DTSTART:20230923T090000Z
LAST-MODIFIED:20230911T145856Z
LOCATION:
SEQUENCE:0
SUMMARY:Åpen hage i Ingunns hage Åpen hage i Ingunns hage -
UID:54047bad-0d34-4019-80bf-3a6178a50757@www.okouka.no
URL:https://www.okouka.no/lokale-oekouker/oekouka-vestfold-og-telemark/pro
 gram/aapen-hage-i-ingunns-hage/
END:VEVENT
BEGIN:VEVENT
DESCRIPTION:Velkommen til åpen hagen i Ingunns fantastiske hage i Brunlane
 s.
DTEND:20230924T130000Z
DTSTAMP:20230911T144005Z
DTSTART:20230924T090000Z
LAST-MODIFIED:20230911T145856Z
LOCATION:
SEQUENCE:0
SUMMARY:Åpen hage i Ingunns hage Åpen hage i Ingunns hage -
UID:c36ed398-68d2-4d86-8aa2-b8f62462ab06@www.okouka.no
URL:https://www.okouka.no/lokale-oekouker/oekouka-vestfold-og-telemark/pro
 gram/aapen-hage-i-ingunns-hage/
END:VEVENT
END:VCALENDAR
