BEGIN:VCALENDAR
PRODID:-//github.com/rianjs/ical.net//NONSGML ical.net 4.0//EN
VERSION:2.0
BEGIN:VEVENT
DESCRIPTION:Velkommen til en sosial og hyggelig kveld på Stammen!
DTSTAMP:20230913T111657Z
DTSTART;VALUE=DATE:20230922
LAST-MODIFIED:20230913T111749Z
LOCATION:Kongens gate 55\, Trondheim
SEQUENCE:0
SUMMARY:Green Drinks på Stammen Cafe og Bar i Trondheim
UID:edd22d03-a66f-4864-9c73-30c02bf9340d@www.okouka.no
URL:https://www.okouka.no/lokale-oekouker/oekouka-troendelag/program/green
 -drinks-paa-stammen-cafe-og-bar-i-trondheim/
END:VEVENT
END:VCALENDAR
