BEGIN:VCALENDAR
PRODID:-//github.com/rianjs/ical.net//NONSGML ical.net 4.0//EN
VERSION:2.0
BEGIN:VEVENT
DESCRIPTION:Velkommen til en spennende dag på Stadsbygd og bli kjent med p
 ermakultur\, pusten og et lite stykke kystpilegrimsled.\n \n \n
DTEND:20230923T180000Z
DTSTAMP:20230913T141423Z
DTSTART:20230923T100000Z
LAST-MODIFIED:20230913T141535Z
LOCATION:Permakult (Grønningsveien 467)
SEQUENCE:0
SUMMARY:Pust\, pilegrim\, permakultur - veier til et «regenerativt liv»?
UID:38ebb3a8-ff1b-431b-b1c2-0858c9c2997a@www.okouka.no
URL:https://www.okouka.no/lokale-oekouker/oekouka-troendelag/program/pust-
 pilegrim-permakultur-veier-til-et-regenerativt-liv/
END:VEVENT
END:VCALENDAR
