BEGIN:VCALENDAR
PRODID:-//github.com/rianjs/ical.net//NONSGML ical.net 4.0//EN
VERSION:2.0
BEGIN:VEVENT
DESCRIPTION:
DTSTAMP:20230916T171751Z
DTSTART;VALUE=DATE:20230922
LAST-MODIFIED:20230916T171900Z
LOCATION:Berviveien 39\, larvik\, Larvik\, Norway
SEQUENCE:0
SUMMARY:Kryssgaarden - selvbetjent gårdsutsalg
UID:9a29907c-da16-4f3e-9644-154408d0058f@www.okouka.no
URL:https://www.okouka.no/lokale-oekouker/oekouka-vestfold-og-telemark/pro
 gram/kryssgaarden-selvbetjent-gaardsutsalg/
END:VEVENT
END:VCALENDAR
