BEGIN:VCALENDAR
PRODID:-//github.com/rianjs/ical.net//NONSGML ical.net 4.0//EN
VERSION:2.0
BEGIN:VEVENT
DESCRIPTION:Selvbetjent blomsterbu
DTEND:20230921T220000Z
DTSTAMP:20230916T173737Z
DTSTART:20230922T100000Z
LAST-MODIFIED:20230916T175025Z
LOCATION:Århusveien 191\, Skien
SEQUENCE:0
SUMMARY:Åpen blomsterbutikk - Århus Gård
UID:12d37b12-355d-4d70-9958-676408641b00@www.okouka.no
URL:https://www.okouka.no/lokale-oekouker/oekouka-vestfold-og-telemark/pro
 gram/aapen-blomsterbutikk-aarhus-gaard/
END:VEVENT
END:VCALENDAR
