BEGIN:VCALENDAR
PRODID:-//github.com/rianjs/ical.net//NONSGML ical.net 4.0//EN
VERSION:2.0
BEGIN:VEVENT
DESCRIPTION:Økologi  i vasen
DTEND:20230921T220000Z
DTSTAMP:20230916T180039Z
DTSTART:20230922T100000Z
LAST-MODIFIED:20231206T161739Z
LOCATION:Prestealleen 52\, 3944 Porsgrunn
SEQUENCE:0
SUMMARY:Økologiske blomster - fra Prestegårdshagene SA
UID:8173ade7-ff62-44d1-82d0-2a3e1731e3f7@www.okouka.no
URL:https://www.okouka.no/lokale-oekouker/oekouka-vestfold-og-telemark/pro
 gram/oekologiske-blomster-fra-prestegaardshagene-sa/
END:VEVENT
END:VCALENDAR
