BEGIN:VCALENDAR
PRODID:-//github.com/rianjs/ical.net//NONSGML ical.net 4.0//EN
VERSION:2.0
BEGIN:VEVENT
DESCRIPTION:
DTEND:20230928T160000Z
DTSTAMP:20230916T180847Z
DTSTART:20230928T130000Z
LAST-MODIFIED:20230916T180907Z
LOCATION:Haugerødvegen\, Skien
SEQUENCE:0
SUMMARY:Skogshavens grønnsaksbod  -
UID:aaca547a-320a-4899-a090-bbf680d97070@www.okouka.no
URL:https://www.okouka.no/lokale-oekouker/oekouka-vestfold-og-telemark/pro
 gram/skogshavens-groennsaksbod/
END:VEVENT
BEGIN:VEVENT
DESCRIPTION:
DTEND:20231001T160000Z
DTSTAMP:20230916T180847Z
DTSTART:20231001T130000Z
LAST-MODIFIED:20230916T180907Z
LOCATION:Haugerødvegen\, Skien
SEQUENCE:0
SUMMARY:Skogshavens grønnsaksbod  -
UID:40289bc7-f610-4d2e-9c43-a7f9269bb138@www.okouka.no
URL:https://www.okouka.no/lokale-oekouker/oekouka-vestfold-og-telemark/pro
 gram/skogshavens-groennsaksbod/
END:VEVENT
END:VCALENDAR
