BEGIN:VCALENDAR
PRODID:-//github.com/rianjs/ical.net//NONSGML ical.net 4.0//EN
VERSION:2.0
BEGIN:VEVENT
DESCRIPTION:
DTSTAMP:20230917T084902Z
DTSTART;VALUE=DATE:20230929
LAST-MODIFIED:20230917T091942Z
LOCATION:Bruene 1\, 3724 Skien
SEQUENCE:0
SUMMARY:Vegetar og naturvin hos Jacob & Gabriel
UID:4e680888-259f-467f-bf36-7cd65f8483fe@www.okouka.no
URL:https://www.okouka.no/lokale-oekouker/oekouka-vestfold-og-telemark/pro
 gram/vegetar-og-naturvin-hos-jacob-gabriel/
END:VEVENT
END:VCALENDAR
