BEGIN:VCALENDAR
PRODID:-//github.com/rianjs/ical.net//NONSGML ical.net 4.0//EN
VERSION:2.0
BEGIN:VEVENT
DESCRIPTION:Kom og se produksjonen av mel på mølla\, få en demonstrasjon a
 v maling og pakking.
DTEND:20230926T140000Z
DTSTAMP:20230918T115259Z
DTSTART:20230926T090000Z
LAST-MODIFIED:20230918T141828Z
LOCATION:Ølvegata 17\, 7715  Steinkjer
SEQUENCE:0
SUMMARY:Urkornets historie og Hvordan bake med urkorn
UID:93bf0dae-35ed-4ce8-892b-f2d5c7a3c531@www.okouka.no
URL:https://www.okouka.no/lokale-oekouker/oekouka-troendelag/program/urkor
 nets-historie-og-hvordan-bake-med-urkorn/
END:VEVENT
END:VCALENDAR
