BEGIN:VCALENDAR
PRODID:-//github.com/rianjs/ical.net//NONSGML ical.net 4.0//EN
VERSION:2.0
BEGIN:VEVENT
DESCRIPTION:
DTEND:20230926T190000Z
DTSTAMP:20230918T193134Z
DTSTART:20230926T160000Z
LAST-MODIFIED:20230918T193243Z
LOCATION:
SEQUENCE:0
SUMMARY:Jordkurs på Prestegårdshagene
UID:7a7748f1-8e9f-4909-ae6c-75f90bfe6715@www.okouka.no
URL:https://www.okouka.no/lokale-oekouker/oekouka-vestfold-og-telemark/pro
 gram/jordkurs-paa-prestegaardshagene/
END:VEVENT
END:VCALENDAR
