BEGIN:VCALENDAR
PRODID:-//github.com/rianjs/ical.net//NONSGML ical.net 4.0//EN
VERSION:2.0
BEGIN:VEVENT
DESCRIPTION:Meld deg på kurs med inspirerende Camilla og Raymund
DTEND:20240920T140000Z
DTSTAMP:20230919T155303Z
DTSTART:20240920T120000Z
LAST-MODIFIED:20240819T153440Z
LOCATION:Delås gård
SEQUENCE:0
SUMMARY:Delås Gård - Hvordan leve av et økologisk småbruk?
UID:e53a9b28-5bfb-4d3f-8ede-82529d51141d@www.okouka.no
URL:https://www.okouka.no/lokale-oekouker/oekouka-oestfold/program/delaas-
 gaard-hvordan-leve-av-et-oekologisk-smaabruk/
END:VEVENT
END:VCALENDAR
