BEGIN:VCALENDAR
PRODID:-//github.com/rianjs/ical.net//NONSGML ical.net 4.0//EN
VERSION:2.0
BEGIN:VEVENT
DESCRIPTION:A Film by Griff and Keelan Williams
DTSTAMP:20230919T162536Z
DTSTART;VALUE=DATE:20230929
LAST-MODIFIED:20230927T164819Z
LOCATION:Nordic Black Theatre & Cafeteatret\, Hollendergata 8\, 0190 Oslo
SEQUENCE:0
SUMMARY:MOVIE SCREENING:  TELL THEM WE WERE HERE
UID:b55864d3-867d-4fe7-8bc2-546aac2cf14c@www.okouka.no
URL:https://www.okouka.no/lokale-oekouker/oekouka-oslo-og-akershus/program
 /movie-screening-tell-them-we-were-here/
END:VEVENT
END:VCALENDAR
