BEGIN:VCALENDAR
PRODID:-//github.com/rianjs/ical.net//NONSGML ical.net 4.0//EN
VERSION:2.0
BEGIN:VEVENT
DESCRIPTION:Høst i hagen og vinterlagring
DTEND:20230926T173000Z
DTSTAMP:20230920T134233Z
DTSTART:20230926T153000Z
LAST-MODIFIED:20230920T142337Z
LOCATION:Gråtenmoen Bydelshus i Skien
SEQUENCE:0
SUMMARY:Pop-Up-Workshop med bybonden i Skien
UID:5a12b4ba-8e3d-4e9d-88c0-d6daf379a56f@www.okouka.no
URL:https://www.okouka.no/lokale-oekouker/oekouka-vestfold-og-telemark/pro
 gram/pop-up-workshop-med-bybonden-i-skien/
END:VEVENT
END:VCALENDAR
